BEGIN:VCALENDAR
VERSION:2.0
PRODID:-//hacksw/handcal//NONSGML v1.0//EN
BEGIN:VEVENT
DTSTAMP:20261009T180000Z
DTSTART:20261009T180000Z
DTEND:20261009T223000Z

SUMMARY:Pete & Bas
DESCRIPTION:South East London&#39;s finest grime duo Pete & Bas are coming to indigo at The O2 in October 2026. Pete & Bas are British rappers who made their critically acclaimed debut in January 2018 with “Shut Ya Mouth”. They are rumoured to have long-standing ties with both the Richardson and Kray families, causing trouble their entire lives. The duo have been co-signed by a long list of artists including names such as Jaykae, Mist, D Double E, Dizzee Rascal, Giggs, Headie One and Dave.
END:VEVENT
END:VCALENDAR