BEGIN:VCALENDAR
VERSION:2.0
PRODID:-//hacksw/handcal//NONSGML v1.0//EN
BEGIN:VEVENT
DTSTAMP:20260503T210000Z
DTSTART:20260503T210000Z
DTEND:20260504T013000Z

SUMMARY:Bashment Party
DESCRIPTION:Bashment Party presents Cheers to Life on 3 May 2026 at indigo at The O2.18+ | PHOTO ID REQUIREDLAST ENTRY: 1AM
END:VEVENT
END:VCALENDAR