BEGIN:VCALENDAR
VERSION:2.0
PRODID:-//hacksw/handcal//NONSGML v1.0//EN
BEGIN:VEVENT
DTSTAMP:20261017T180000Z
DTSTART:20261017T180000Z
DTEND:20261017T200000Z

SUMMARY:Boyzlife
DESCRIPTION:Boyzlife featuring Boyzone’s Keith Duffy and Westlife’s Brian McFadden, will return to indigo at The O2 in October 2026. Performing all the biggest hits from Boyzone and Westlife. Boyband supergroup Boyzlife, comprising Boyzone’s Keith Duffy and Westlife’s Brian McFadden, celebrate the iconic hits from both defining 90s/00s groups, who sold a combined 55 million records and have 21+ #1 singles between them. During the show the duo nostalgically revisit their boyband legacies astheyperform a mixture of hits from both of their individual supergroups, including from Boyzone: ‘I Love The Way You Love Me’, ‘All That I Need’, ‘No Matter What’ and from Westlife: ‘My Love’, ‘I Lay My Love On You’, ‘Uptown Girl’. With decades of chart-toppers, this is an unmissable night of nostalgia and hit pop perfection
END:VEVENT
END:VCALENDAR