BEGIN:VCALENDAR
VERSION:2.0
PRODID:-//hacksw/handcal//NONSGML v1.0//EN
BEGIN:VEVENT
DTSTAMP:20270206T183000Z
DTSTART:20270206T183000Z
DTEND:20270206T230000Z

SUMMARY:The Buena Vista Orchestra
DESCRIPTION:The Buena Vista Orchestra is coming to indigo at The O2 in February 2027.The Buena Vista Orchestra (sometimes referred to as The Buena Vista Social Orchestra, Orquesta Buena Vista, etc) is the world&#39;s foremost Cuban music repertory ensemble - featuring a lineup of musicians from groups like The Buena Vista Social Club, AfroCuban All Stars, the bands of Celia Cruz, Omara Portuondo, Chucho Valdés, Willie Colon & more!To date, The Buena Vista Social Club, The Buena Vista Orchestra and related projects have toured the world and garnered global acclaim, ticket and record sales in the millions and been the subject of various documentaries, theatrical productions and more - making it the biggest-selling and best known Cuban music project in history.
END:VEVENT
END:VCALENDAR