BEGIN:VCALENDAR
VERSION:2.0
PRODID:-//hacksw/handcal//NONSGML v1.0//EN
BEGIN:VEVENT
DTSTAMP:20260522T173000Z
DTSTART:20260522T173000Z
DTEND:20260522T203000Z

SUMMARY:Dr. Likee Live
DESCRIPTION:Dr. Likee Live - A Night of Comedy, Music & Stage Play is coming to indigo at The O2 this May.Plus special guests:AkrobetoNana Ama McBrownPapa Kumasi Performing live:MedikalWendy ShayOB Amponsah
END:VEVENT
END:VCALENDAR