BEGIN:VCALENDAR
VERSION:2.0
PRODID:-//hacksw/handcal//NONSGML v1.0//EN
BEGIN:VEVENT
DTSTAMP:20261015T170000Z
DTSTART:20261015T170000Z
DTEND:20261015T213000Z

SUMMARY:Dreamboys
DESCRIPTION:Dreamboys are coming to indigo at The O2 on 15 October 2026.
END:VEVENT
END:VCALENDAR