BEGIN:VCALENDAR
VERSION:2.0
PRODID:-//hacksw/handcal//NONSGML v1.0//EN
BEGIN:VEVENT
DTSTAMP:20260606T173000Z
DTSTART:20260606T173000Z
DTEND:20260606T220000Z

SUMMARY:Gabriel Iglesias & Jo Koy
DESCRIPTION:Gabriel Iglesias & Jo Koy will be heading to The O2 on Saturday 6 June 2026.
END:VEVENT
END:VCALENDAR