BEGIN:VCALENDAR
VERSION:2.0
PRODID:-//hacksw/handcal//NONSGML v1.0//EN
BEGIN:VEVENT
DTSTAMP:20260613T180000Z
DTSTART:20260613T180000Z
DTEND:20260613T223000Z

SUMMARY:ABBA MIA
DESCRIPTION:KERRY KATONA stars in ‘ABBA MIA’ - The greatest party in the West End comes to you with the UK’s No.1 tribute to Mamma Mia! The Musical!We’re sending out an SOS to anyone who might HAVE A DREAM of a great night out… so grab your platform boots and sequined jump-suits and join us for the ultimate non-stop tribute to Mamma Mia! The Musical. Featuring a dynamite cast direct from London’s West End, this all-singing all-dancing show will blow you away.Singing along is encouraged, dancing in your seats is a given, and dressing up is always welcome. Take a Chance and Gr-Abba ticket for a fabulous night of non-stop hits, non-stop energy, and non-stop Mamma Mia!
END:VEVENT
END:VCALENDAR