BEGIN:VCALENDAR
VERSION:2.0
PRODID:-//hacksw/handcal//NONSGML v1.0//EN
BEGIN:VEVENT
DTSTAMP:20270130T183000Z
DTSTART:20270130T183000Z
DTEND:20270130T230000Z

SUMMARY:Jack Whitehall: Bad Influence
DESCRIPTION:Jack Whitehall will be returning to The O2 with his brand new show on Saturday 30 January 2027.
END:VEVENT
END:VCALENDAR