BEGIN:VCALENDAR
VERSION:2.0
PRODID:-//hacksw/handcal//NONSGML v1.0//EN
BEGIN:VEVENT
DTSTAMP:20260701T180000Z
DTSTART:20260701T180000Z
DTEND:20260701T223000Z

SUMMARY:John Hiatt
DESCRIPTION:American singer-songwriter John Hiatt brings The UK and European Farewell Tour to indigo at The O2 in July 2026.John Hiatt is one of America’s most enduring and respected singer-songwriters — a musician whose gritty voice and lyrical insight have shaped the sound of modern Americana. Over a career spanning more than five decades, Hiatt has released over twenty studio albums, been covered by legends from Bonnie Raitt to Bob Dylan, and earned accolades that underscore both his longevity and artistic influence.
END:VEVENT
END:VCALENDAR