BEGIN:VCALENDAR
VERSION:2.0
PRODID:-//hacksw/handcal//NONSGML v1.0//EN
BEGIN:VEVENT
DTSTAMP:20260515T173000Z
DTSTART:20260515T173000Z
DTEND:20260515T220000Z

SUMMARY:K-POP All Stars
DESCRIPTION:K-Pop All Stars Tribute Ride the K-pop wave influencing the World live on stage!From stadium-shaking anthems to breathtaking choreography, K-Pop All Stars celebrates the global phenomenon redefining pop culture. With explosive performances of today’s biggest K-pop hits from BlackPink, NewJeans, Katseye, and BTS and spectacular numbers inspired by the smash-hit film K-pop Demon Hunters, this high-energy tribute brings the thrill of Seoul’s stages to life.With a sea of light sticks glowing and the crowd moving as one, you’ll feel the music and the electrifying energy of K-Pop All Stars in this live, immersive experience!
END:VEVENT
END:VCALENDAR