BEGIN:VCALENDAR
VERSION:2.0
PRODID:-//hacksw/handcal//NONSGML v1.0//EN
BEGIN:VEVENT
DTSTAMP:20260424T180000Z
DTSTART:20260424T180000Z
DTEND:20260424T223000Z

SUMMARY:Kenan Dogulu
DESCRIPTION:Turkish musician Kenan Dogulu will perform live at indigo at The O2 in April 2026.
END:VEVENT
END:VCALENDAR