BEGIN:VCALENDAR
VERSION:2.0
PRODID:-//hacksw/handcal//NONSGML v1.0//EN
BEGIN:VEVENT
DTSTAMP:20261210T183000Z
DTSTART:20261210T183000Z
DTEND:20261210T230000Z

SUMMARY:Mo Gilligan
DESCRIPTION:Mo Gilligan returns to The O2 with his brand new show on Thursday 10 December 2026.
END:VEVENT
END:VCALENDAR