BEGIN:VCALENDAR
VERSION:2.0
PRODID:-//hacksw/handcal//NONSGML v1.0//EN
BEGIN:VEVENT
DTSTAMP:20270226T180000Z
DTSTART:20270226T180000Z
DTEND:20270226T203000Z

SUMMARY:Monatik
DESCRIPTION:Ukrainian superstar singer/songwriter Monatik will play indigo at The O2 in February 2027.
END:VEVENT
END:VCALENDAR