BEGIN:VCALENDAR
VERSION:2.0
PRODID:-//hacksw/handcal//NONSGML v1.0//EN
BEGIN:VEVENT
DTSTAMP:20260908T170000Z
DTSTART:20260908T170000Z
DTEND:20260908T213000Z

SUMMARY:National Television Awards 2026
DESCRIPTION:The National Television Awards are back - join hundreds of stars for the biggest night in British TV.Britain’s leading awards show celebrates the nation’s best-loved shows and stars in a spectacular event. These truly are the people’s awards where viewers’ opinion counts and the nation’s favourites take home the prizes.Expect an evening of red-carpet glamour, exclusive live performances, surprise special guests and a star-filled night which is sure to be one to remember.
END:VEVENT
END:VCALENDAR