BEGIN:VCALENDAR
VERSION:2.0
PRODID:-//hacksw/handcal//NONSGML v1.0//EN
BEGIN:VEVENT
DTSTAMP:20260508T173000Z
DTSTART:20260508T173000Z
DTEND:20260508T220000Z

SUMMARY:NE-YO & AKON
DESCRIPTION:GRAMMY award-winning hitmaker NE-YO and GRAMMY award-winning multi-platinum recording artist AKON have announced that they will be bringing their co-headlined ‘Nights Like This’ global tour to London’s The O2 on Friday 8, Saturday 9 and Sunday 10 and Thursday 14 May 2026.The tour brings together two generational artists whose catalogues have defined radio, nightlife, and pop culture. NE-YO and AKON will share the stage in a unique, dynamic back-and-forth set throughout the show stacked with era-defining hits, sing-along anthems, and club classics.Featuring NE-YO’s “So Sick,” “Closer,” and “Miss Independent,” alongside AKON’s “Smack That,” “Lonely,” and “Right Now (Na Na Na),” the ‘Nights Like This Tour’ is a nostalgia rush for longtime fans and fresh excitement to new listeners. From slow jams to club anthems, every night is built to feel like a throwback party and a celebration.
END:VEVENT
END:VCALENDAR