BEGIN:VCALENDAR
VERSION:2.0
PRODID:-//hacksw/handcal//NONSGML v1.0//EN
BEGIN:VEVENT
DTSTAMP:20260807T173000Z
DTSTART:20260807T173000Z
DTEND:20260807T220000Z

SUMMARY:Peter Kay Live
DESCRIPTION:Peter Kay has announced his return to The O2, with a headline show set to take place on Friday 7 August 2026.The upcoming show forms part of national tour which will see all profits donated to 12 leading cancer charities, including the following:Children With Cancer UKTeenage Cancer TrustKidney Cancer UKBlood Cancer UKBowel Cancer UKProstate Cancer UKDKMSOvarian Cancer ActionPancreatic Cancer UKAnthony NolanThe Brain Tumour CharityBreast Cancer UKNow entering its fourth record-breaking year, Peter’s live run has become one of the most successful in British comedy tour history. He holds the record as the only artist in the world to have performed a monthly residency at London’s The O2, which began in 2022.Peter Kay said: “It’s been the greatest privilege of my life to perform for audiences up and down the country. I’ve been completely overwhelmed by the support over the years, and it feels right to give something back. Every single penny of profit from these final shows will go to help fight cancer and support those affected.Unfortunately, just about everyone knows someone who’s been affected by one of the cancers on that list. I really hope people can get behind this — come out, have a great night, share a few laughs, and do something good for charity at the same time. It’s a win–win.You don’t even have to like me — raising money for these twelve charities goes far beyond that. Together, we really can make a difference.” 
END:VEVENT
END:VCALENDAR