BEGIN:VCALENDAR
VERSION:2.0
PRODID:-//hacksw/handcal//NONSGML v1.0//EN
BEGIN:VEVENT
DTSTAMP:20270306T183000Z
DTSTART:20270306T183000Z
DTEND:20270306T230000Z

SUMMARY:Rapperholic UK – Ghana’s 70th Independence Day
DESCRIPTION:Following a sold out London debut, Ghana’s most sought after and legendary rap artists Sarkodie has announced the next edition of Rapperholic UK on Saturday 6 March 2027 at the iconic The O2. The date is significant for the show as it falls on the 70th anniversary of Ghana Independence Day, so the celebrations will be extra special and the vibes electric for a night to remember.Sarkodie will be bringing together a surprise line up of star studded guests with him on Saturday March 6th to curate a musical experience of a lifetime as he touches down in London.
END:VEVENT
END:VCALENDAR