BEGIN:VCALENDAR
VERSION:2.0
PRODID:-//hacksw/handcal//NONSGML v1.0//EN
BEGIN:VEVENT
DTSTAMP:20260717T173000Z
DTSTART:20260717T173000Z
DTEND:20260717T220000Z

SUMMARY:Romeo Santos & Prince Royce
DESCRIPTION:Two of the biggest global icons in Latin music, Romeo Santos and Prince Royce, have announced a landmark joint-headline concert at The O2 on Friday 17 July 2026, as part of their highly anticipated “Better Late Than Never” Tour. This once-in-a-generation event will mark a defining moment for Latin music in the UK and will be the first time ever these two legends share the same stage in London.The show promises an unforgettable night of world-class live music, featuring timeless, chart-topping hits from both artists’ iconic careers, alongside standout tracks from their brand-new collaborative album, Better Late Than Never. Fans can expect a powerful celebration of bachata and Latin music culture, delivered on one of the world’s most prestigious stages.Widely known as El Rey de la Bachata, Romeo Santos has reshaped the global Latin music landscape. From his groundbreaking success with Aventura to a record-breaking solo career, Santos has sold out stadiums worldwide and earned countless accolades, including multiple Latin Grammy Awards, Billboard Latin Music Awards, and multi-platinum, chart-dominating albums that have transcended generations and borders.Joining him is Prince Royce, one of the most influential Latin artists of his generation. With billions of global streams, numerous multi-platinum records, multiple Latin Grammy Awards, and years of dominance across international charts, Prince Royce has been instrumental in bringing bachata to the global mainstream.This historic London date at The O2 will see both artists deliver their most beloved hits, emotional anthems, and new material from Better Late Than Never, supported by a state-of-the-art live production worthy of their global status.
END:VEVENT
END:VCALENDAR