BEGIN:VCALENDAR
VERSION:2.0
PRODID:-//hacksw/handcal//NONSGML v1.0//EN
BEGIN:VEVENT
DTSTAMP:20260703T170000Z
DTSTART:20260703T170000Z
DTEND:20260703T190000Z

SUMMARY:Shalamar
DESCRIPTION:Shalamar will return to indigo at The O2 this July with The Gold Tour - A 50 Year Celebration. With Special Guest Gwen Dickey (the voice of Rose Royce)One of the most successful soul groups of all time, Shalamar return to the UK in 2026 to celebrate their 50th anniversary with The Gold Tour. Formed in Los Angeles in 1976 by Soul Train creator Don Cornelius and music executive Dick Griffey, Shalamar became a defining force in late ’70s and ’80s R&B, funk and dance music. With 18 UK Top 75 hits, 11 Top 40 singles, four Top 10 hits and over 25 million records sold worldwide, their influence on popular music and dance culture remains unmistakable. Rising from their breakthrough with debut single & album ‘Uptown Festival’, Shalamar went on to deliver a run of era-defining hits including ‘A Night To Remember’,‘Take That To The Bank’, ‘The Second Time Around’, ‘Make That Move,Dead Giveaway’, ‘There It Is’, ‘Friends’ and ‘Dancin’ In The Sheets’; records that continue to fill dancefloors and festival fields worldwide.
END:VEVENT
END:VCALENDAR