BEGIN:VCALENDAR
VERSION:2.0
PRODID:-//hacksw/handcal//NONSGML v1.0//EN
BEGIN:VEVENT
DTSTAMP:20261106T183000Z
DTSTART:20261106T183000Z
DTEND:20261106T230000Z

SUMMARY:Suede & Manic Street Preachers
DESCRIPTION:Suede & Manic Street Preachers will be heading to The O2 on Friday 6 September 2026.
END:VEVENT
END:VCALENDAR