BEGIN:VCALENDAR
VERSION:2.0
PRODID:-//hacksw/handcal//NONSGML v1.0//EN
BEGIN:VEVENT
DTSTAMP:20260711T131500Z
DTSTART:20260711T131500Z
DTEND:20260711T174500Z

SUMMARY:The BIG FANCY
DESCRIPTION:Discos for Grown Ups presents…The BIG FANCYThe BIG FANCY - the ultimate FANCY DRESS DISCO PARTY is coming to indigo at The O2 on Saturday 11 July for a daytime party. It&#39;s going to be LONDONS BIGGEST FANCY DRESS PARTY ever!Dress up and boogie all afternoon to non-stop 70s 80s 90s Party anthems.IT&#39;S A DAY TIME PARTY FROM 3pm to 6.30pmCome in any fun FANCY DRESS outfit you fancy - something simple or let your creativity go wild - it’s up to you. Just make it FUN and make it FANCY - prizes for the best fancy outfits!Transform into your favourite pop star, fun film or TV character, celebrity, historical figure, Disney character, 70s or 80s, uniform, animal or super hero!
END:VEVENT
END:VCALENDAR