BEGIN:VCALENDAR
VERSION:2.0
PRODID:-//hacksw/handcal//NONSGML v1.0//EN
BEGIN:VEVENT
DTSTAMP:20260515T173000Z
DTSTART:20260515T173000Z
DTEND:20260515T220000Z

SUMMARY:The Neighbourhood
DESCRIPTION:The Neighbourhood will be bringing THE WOURLD TOUR to The O2 on Friday 15 May 2026.
END:VEVENT
END:VCALENDAR