BEGIN:VCALENDAR
VERSION:2.0
PRODID:-//hacksw/handcal//NONSGML v1.0//EN
BEGIN:VEVENT
DTSTAMP:20261013T173000Z
DTSTART:20261013T173000Z
DTEND:20261013T220000Z

SUMMARY:The Pussycat Dolls
DESCRIPTION:Multi-platinum pop supergroup The Pussycat Dolls are officially returning to the stage this year with their new PCD FOREVER tour, which is heading to The O2 on Tuesday 13 October 2026, with special guest Lil’ Kim.The tour marks the 20th anniversary of the group’s debut album ‘PCD,’ with record-breaking singles such as recently certified 5x platinum “Buttons,” which surpassed one billion views on YouTube this past December, recently certified 5x platinum “Don’t Cha,” and recently certified 3x platinum “Stickwitu.”Known for defining 2000s pop culture, The Pussycat Dolls have collectively sold millions of records worldwide and delivered some of the most electrifying live performances of their era. The upcoming 2026 run brings Nicole Scherzinger, Kimberly Wyatt, and Ashley Roberts back together once again, marking a powerful new chapter for the global pop phenomenon.Their biggest international run in years not only celebrates the group’s lasting cultural impact and multi-platinum catalog, but also arrives at a defining moment with anniversary milestones, personal career highlights including a recent Tony Award® win, and new music on the horizon. The return signals both renewed creative momentum and legacy for the girls, combining their signature choreography and powerhouse vocals into a brand-new performance for multiple countries."Club Song" is the first new recording from the Pussycat Dolls since 2019&#39;s "React." Produced by Mike Sabbath (RAYE, Jade) and written by Nicole Scherzinger with Sabbath, Caroline Ailin (Dua Lipa) and Solly (Teddy Swims), the song marks a new chapter for the Dolls.In anticipation of their global reunion tour, The Pussycat Dolls’ multiplatinum classic albums PCD and Doll Domination will be reissued for the first time on 8 May 2026, packed with some of the most irresistible and infectious pop anthems of the 21st century.
END:VEVENT
END:VCALENDAR